BEGIN:VCALENDAR
VERSION:2.0
PRODID:-//Bar 63 - ECPv6.9.0//NONSGML v1.0//EN
CALSCALE:GREGORIAN
METHOD:PUBLISH
X-WR-CALNAME:Bar 63
X-ORIGINAL-URL:https://bar63.de
X-WR-CALDESC:Events for Bar 63
REFRESH-INTERVAL;VALUE=DURATION:PT1H
X-Robots-Tag:noindex
X-PUBLISHED-TTL:PT1H
BEGIN:VTIMEZONE
TZID:UTC
BEGIN:STANDARD
TZOFFSETFROM:+0000
TZOFFSETTO:+0000
TZNAME:UTC
DTSTART:20250101T000000
END:STANDARD
END:VTIMEZONE
BEGIN:VEVENT
DTSTART;TZID=UTC:20250420T060000
DTEND;TZID=UTC:20250420T120000
DTSTAMP:20260419T205019
CREATED:20250404T152422Z
LAST-MODIFIED:20250404T153159Z
UID:20894-1745128800-1745150400@bar63.de
SUMMARY:HIPHOP AFTERHOUR STUTTGART
DESCRIPTION:GRAND OPENING ALERT 🎉🔥 HIPHOP AFTERHOUR STUTTGART 🔥📍 Bar63X | Daimlerstraße 63\, 70372 Stuttgart \n🗓 Sonntag\, 20.04.2025⏰ 06:00 – 12:00 (Open End)🎧 DJs: DJ Chrizzo & DJ Lazo🎶 HIPHOP | AFRO | DANCEHALL | LATIN | HOUSE & MORE🔞 Eintritt ab 18 Jahren \n📸 Special Shoot am Eingang👥 Platz für 150 Personen🟡 Wegen Ostermontag bleibt der Laden für euch bis Sonntag Nacht geöffnet! \n📲 Info & Reservierung: @hiphop_afterhour_stuttgartNICHT VERPASSEN! 🥳
URL:https://bar63.de/event/hiphop-afterhour-stuttgart/
CATEGORIES:After-Partys
ATTACH;FMTTYPE=image/jpeg:https://bar63.de/wp-content/uploads/2025/04/bar-63-stuttgart-20-04-2025.2.jpg
END:VEVENT
END:VCALENDAR