BEGIN:VCALENDAR
VERSION:2.0
PRODID:-//Bar 63 - ECPv6.9.0//NONSGML v1.0//EN
CALSCALE:GREGORIAN
METHOD:PUBLISH
X-WR-CALNAME:Bar 63
X-ORIGINAL-URL:https://bar63.de
X-WR-CALDESC:Events for Bar 63
REFRESH-INTERVAL;VALUE=DURATION:PT1H
X-Robots-Tag:noindex
X-PUBLISHED-TTL:PT1H
BEGIN:VTIMEZONE
TZID:UTC
BEGIN:STANDARD
TZOFFSETFROM:+0000
TZOFFSETTO:+0000
TZNAME:UTC
DTSTART:20240101T000000
END:STANDARD
END:VTIMEZONE
BEGIN:VEVENT
DTSTART;VALUE=DATE:20241224
DTEND;VALUE=DATE:20241226
DTSTAMP:20260421T012958
CREATED:20211027T144837Z
LAST-MODIFIED:20241114T150931Z
UID:18229-1734998400-1735171199@bar63.de
SUMMARY:PRESENT ORHAN FETAHU
DESCRIPTION:📍 BAR 63\n📅 24.12.2024\n⏰ Ab 21:00 Uhr \n🔥 Live Musik mit:\n🎷 Zike Sax\n🎤 Skender\n🎹 Rangel\n🎼 S.A.F.E \n📌 Location:\nDaimlerstraße 63\, 70732 Stuttgart \n📞 INFO & RESERVIERUNG: +49 176 20150034 \nSeid bereit für eine unvergessliche Nacht voller Musik und Stimmung! 🎊✨
URL:https://bar63.de/event/present-orhan-fetahu/
LOCATION:Bar 63\, Daimlerstraße 63\, Stuttgart\, 70372\, Germany
CATEGORIES:Veranstaltungen
ATTACH;FMTTYPE=image/jpeg:https://bar63.de/wp-content/uploads/2021/10/bar-63-24-12-2024.jpg
END:VEVENT
END:VCALENDAR